BEGIN:VCALENDAR
VERSION:2.0
PRODID:-//Empanada Gal - ECPv6.15.16.1//NONSGML v1.0//EN
CALSCALE:GREGORIAN
METHOD:PUBLISH
X-WR-CALNAME:Empanada Gal
X-ORIGINAL-URL:https://empanadagal.com
X-WR-CALDESC:Events for Empanada Gal
REFRESH-INTERVAL;VALUE=DURATION:PT1H
X-Robots-Tag:noindex
X-PUBLISHED-TTL:PT1H
BEGIN:VTIMEZONE
TZID:America/Vancouver
BEGIN:DAYLIGHT
TZOFFSETFROM:-0800
TZOFFSETTO:-0700
TZNAME:PDT
DTSTART:20250309T100000
END:DAYLIGHT
BEGIN:STANDARD
TZOFFSETFROM:-0700
TZOFFSETTO:-0800
TZNAME:PST
DTSTART:20251102T090000
END:STANDARD
BEGIN:DAYLIGHT
TZOFFSETFROM:-0800
TZOFFSETTO:-0700
TZNAME:PDT
DTSTART:20260308T100000
END:DAYLIGHT
BEGIN:STANDARD
TZOFFSETFROM:-0700
TZOFFSETTO:-0800
TZNAME:PST
DTSTART:20261101T090000
END:STANDARD
BEGIN:DAYLIGHT
TZOFFSETFROM:-0800
TZOFFSETTO:-0700
TZNAME:PDT
DTSTART:20270314T100000
END:DAYLIGHT
BEGIN:STANDARD
TZOFFSETFROM:-0700
TZOFFSETTO:-0800
TZNAME:PST
DTSTART:20271107T090000
END:STANDARD
END:VTIMEZONE
BEGIN:VEVENT
DTSTART;TZID=America/Vancouver:20260419T100000
DTEND;TZID=America/Vancouver:20260419T140000
DTSTAMP:20260425T164247
CREATED:20260316T164822Z
LAST-MODIFIED:20260316T164822Z
UID:766-1776592800-1776607200@empanadagal.com
SUMMARY:White Rock Farmers Market
DESCRIPTION:
URL:https://empanadagal.com/markets/white-rock-farmers-market-5/
LOCATION:White rock\, 15154 RUSSELL AVE.\, White rock\, BC\, V4B 0A6\, Canada
END:VEVENT
BEGIN:VEVENT
DTSTART;TZID=America/Vancouver:20260419T110000
DTEND;TZID=America/Vancouver:20260419T160000
DTSTAMP:20260425T164247
CREATED:20260316T163353Z
LAST-MODIFIED:20260316T163353Z
UID:760-1776596400-1776614400@empanadagal.com
SUMMARY:I Made Fort Langley Community Hall
DESCRIPTION:
URL:https://empanadagal.com/markets/i-made-fort-langley-community-hall-2/
LOCATION:Fort Langley Community Hall\, 9167 Clover Rd\, Fort Langley\, BC\, V1M2R9\, Canada
END:VEVENT
END:VCALENDAR