BEGIN:VCALENDAR
VERSION:2.0
PRODID:-//Empanada Gal - ECPv6.15.16.1//NONSGML v1.0//EN
CALSCALE:GREGORIAN
METHOD:PUBLISH
X-WR-CALNAME:Empanada Gal
X-ORIGINAL-URL:https://empanadagal.com
X-WR-CALDESC:Events for Empanada Gal
REFRESH-INTERVAL;VALUE=DURATION:PT1H
X-Robots-Tag:noindex
X-PUBLISHED-TTL:PT1H
BEGIN:VTIMEZONE
TZID:America/Vancouver
BEGIN:DAYLIGHT
TZOFFSETFROM:-0800
TZOFFSETTO:-0700
TZNAME:PDT
DTSTART:20240310T100000
END:DAYLIGHT
BEGIN:STANDARD
TZOFFSETFROM:-0700
TZOFFSETTO:-0800
TZNAME:PST
DTSTART:20241103T090000
END:STANDARD
BEGIN:DAYLIGHT
TZOFFSETFROM:-0800
TZOFFSETTO:-0700
TZNAME:PDT
DTSTART:20250309T100000
END:DAYLIGHT
BEGIN:STANDARD
TZOFFSETFROM:-0700
TZOFFSETTO:-0800
TZNAME:PST
DTSTART:20251102T090000
END:STANDARD
BEGIN:DAYLIGHT
TZOFFSETFROM:-0800
TZOFFSETTO:-0700
TZNAME:PDT
DTSTART:20260308T100000
END:DAYLIGHT
BEGIN:STANDARD
TZOFFSETFROM:-0700
TZOFFSETTO:-0800
TZNAME:PST
DTSTART:20261101T090000
END:STANDARD
BEGIN:DAYLIGHT
TZOFFSETFROM:-0800
TZOFFSETTO:-0700
TZNAME:PDT
DTSTART:20270314T100000
END:DAYLIGHT
BEGIN:STANDARD
TZOFFSETFROM:-0700
TZOFFSETTO:-0800
TZNAME:PST
DTSTART:20271107T090000
END:STANDARD
END:VTIMEZONE
BEGIN:VEVENT
DTSTART;TZID=America/Vancouver:20260222T100000
DTEND;TZID=America/Vancouver:20260222T140000
DTSTAMP:20260425T060404
CREATED:20260107T022756Z
LAST-MODIFIED:20260107T023218Z
UID:637-1771754400-1771768800@empanadagal.com
SUMMARY:Port Moody Farmers Market
DESCRIPTION:
URL:https://empanadagal.com/markets/port-moody-farmers-market-3/
LOCATION:Port Moody Farmers Market\, 300 loco road\, Port Moody\, BC\, Canada
END:VEVENT
BEGIN:VEVENT
DTSTART;TZID=America/Vancouver:20260221T100000
DTEND;TZID=America/Vancouver:20260221T140000
DTSTAMP:20260425T060404
CREATED:20260107T023540Z
LAST-MODIFIED:20260107T023540Z
UID:644-1771668000-1771682400@empanadagal.com
SUMMARY:Riley Park Farmers Market
DESCRIPTION:
URL:https://empanadagal.com/markets/riley-park-farmers-market-9/
LOCATION:Riley park Farmers market\, 50 E 30th Ave & Ontario St\, Vancouver\, BC\, V5V 2V1\, Canada
END:VEVENT
BEGIN:VEVENT
DTSTART;TZID=America/Vancouver:20260215T100000
DTEND;TZID=America/Vancouver:20260215T140000
DTSTAMP:20260425T060404
CREATED:20260107T022653Z
LAST-MODIFIED:20260107T022653Z
UID:635-1771149600-1771164000@empanadagal.com
SUMMARY:Kitsilano Farmers Market
DESCRIPTION:
URL:https://empanadagal.com/markets/kitsilano-farmers-market-4/
LOCATION:Kitsilano Farmers Market\, 2706 Trafalgar St\, Vancouver\, BC\, V6K 2J6\, Canada
END:VEVENT
BEGIN:VEVENT
DTSTART;TZID=America/Vancouver:20260214T100000
DTEND;TZID=America/Vancouver:20260214T140000
DTSTAMP:20260425T060404
CREATED:20260107T023444Z
LAST-MODIFIED:20260107T023444Z
UID:642-1771063200-1771077600@empanadagal.com
SUMMARY:Riley Park Farmers Market
DESCRIPTION:
URL:https://empanadagal.com/markets/riley-park-farmers-market-8/
LOCATION:Riley park Farmers market\, 50 E 30th Ave & Ontario St\, Vancouver\, BC\, V5V 2V1\, Canada
END:VEVENT
BEGIN:VEVENT
DTSTART;TZID=America/Vancouver:20260208T100000
DTEND;TZID=America/Vancouver:20260208T140000
DTSTAMP:20260425T060404
CREATED:20260207T170034Z
LAST-MODIFIED:20260207T170034Z
UID:747-1770544800-1770559200@empanadagal.com
SUMMARY:Kitsilano Farmers Market
DESCRIPTION:
URL:https://empanadagal.com/markets/kitsilano-farmers-market-8/
LOCATION:Kitsilano Farmers Market\, 2706 Trafalgar St\, Vancouver\, BC\, V6K 2J6\, Canada
END:VEVENT
BEGIN:VEVENT
DTSTART;TZID=America/Vancouver:20260208T100000
DTEND;TZID=America/Vancouver:20260208T140000
DTSTAMP:20260425T060404
CREATED:20260107T023333Z
LAST-MODIFIED:20260107T023333Z
UID:640-1770544800-1770559200@empanadagal.com
SUMMARY:Port Moody Farmers Market
DESCRIPTION:
URL:https://empanadagal.com/markets/port-moody-farmers-market-4/
LOCATION:Port Moody Farmers Market\, 300 loco road\, Port Moody\, BC\, Canada
END:VEVENT
BEGIN:VEVENT
DTSTART;TZID=America/Vancouver:20260201T100000
DTEND;TZID=America/Vancouver:20260201T140000
DTSTAMP:20260425T060404
CREATED:20260107T022558Z
LAST-MODIFIED:20260107T022558Z
UID:633-1769940000-1769954400@empanadagal.com
SUMMARY:Kitsilano Farmers Market
DESCRIPTION:
URL:https://empanadagal.com/markets/kitsilano-farmers-market-3/
LOCATION:Kitsilano Farmers Market\, 2706 Trafalgar St\, Vancouver\, BC\, V6K 2J6\, Canada
END:VEVENT
BEGIN:VEVENT
DTSTART;TZID=America/Vancouver:20260131T100000
DTEND;TZID=America/Vancouver:20260131T140000
DTSTAMP:20260425T060404
CREATED:20260107T021349Z
LAST-MODIFIED:20260107T021349Z
UID:623-1769853600-1769868000@empanadagal.com
SUMMARY:Riley Park Farmers Market
DESCRIPTION:
URL:https://empanadagal.com/markets/riley-park-farmers-market-7/
LOCATION:Riley park Farmers market\, 50 E 30th Ave & Ontario St\, Vancouver\, BC\, V5V 2V1\, Canada
END:VEVENT
BEGIN:VEVENT
DTSTART;TZID=America/Vancouver:20260125T100000
DTEND;TZID=America/Vancouver:20260125T140000
DTSTAMP:20260425T060404
CREATED:20260107T021913Z
LAST-MODIFIED:20260107T021913Z
UID:628-1769335200-1769349600@empanadagal.com
SUMMARY:Port Moody Farmers Market
DESCRIPTION:
URL:https://empanadagal.com/markets/port-moody-farmers-market-2/
LOCATION:Port Moody Farmers Market\, 300 loco road\, Port Moody\, BC\, Canada
END:VEVENT
BEGIN:VEVENT
DTSTART;TZID=America/Vancouver:20260118T100000
DTEND;TZID=America/Vancouver:20260118T140000
DTSTAMP:20260425T060404
CREATED:20260116T224749Z
LAST-MODIFIED:20260116T224749Z
UID:669-1768730400-1768744800@empanadagal.com
SUMMARY:Port Moody Farmers Market
DESCRIPTION:
URL:https://empanadagal.com/markets/port-moody-farmers-market-9/
LOCATION:Port Moody Farmers Market\, 300 loco road\, Port Moody\, BC\, Canada
END:VEVENT
BEGIN:VEVENT
DTSTART;TZID=America/Vancouver:20260118T100000
DTEND;TZID=America/Vancouver:20260118T140000
DTSTAMP:20260425T060404
CREATED:20260107T022351Z
LAST-MODIFIED:20260107T022351Z
UID:630-1768730400-1768744800@empanadagal.com
SUMMARY:Kitsilano Farmers Market
DESCRIPTION:
URL:https://empanadagal.com/markets/kitsilano-farmers-market-2/
LOCATION:Kitsilano Farmers Market\, 2706 Trafalgar St\, Vancouver\, BC\, V6K 2J6\, Canada
END:VEVENT
BEGIN:VEVENT
DTSTART;TZID=America/Vancouver:20260117T100000
DTEND;TZID=America/Vancouver:20260117T140000
DTSTAMP:20260425T060404
CREATED:20260107T021303Z
LAST-MODIFIED:20260107T021303Z
UID:621-1768644000-1768658400@empanadagal.com
SUMMARY:Riley Park Farmers Market
DESCRIPTION:
URL:https://empanadagal.com/markets/riley-park-farmers-market-6/
LOCATION:Riley park Farmers market\, 50 E 30th Ave & Ontario St\, Vancouver\, BC\, V5V 2V1\, Canada
END:VEVENT
BEGIN:VEVENT
DTSTART;TZID=America/Vancouver:20260111T100000
DTEND;TZID=America/Vancouver:20260111T140000
DTSTAMP:20260425T060404
CREATED:20260107T021822Z
LAST-MODIFIED:20260107T021822Z
UID:625-1768125600-1768140000@empanadagal.com
SUMMARY:Port Moody Farmers Market
DESCRIPTION:
URL:https://empanadagal.com/markets/port-moody-farmers-market/
LOCATION:Port Moody Farmers Market\, 300 loco road\, Port Moody\, BC\, Canada
END:VEVENT
BEGIN:VEVENT
DTSTART;TZID=America/Vancouver:20260110T100000
DTEND;TZID=America/Vancouver:20260110T140000
DTSTAMP:20260425T060404
CREATED:20260107T021142Z
LAST-MODIFIED:20260107T021142Z
UID:619-1768039200-1768053600@empanadagal.com
SUMMARY:Riley Park Farmers Market
DESCRIPTION:
URL:https://empanadagal.com/markets/riley-park-farmers-market-5/
LOCATION:Riley park Farmers market\, 50 E 30th Ave & Ontario St\, Vancouver\, BC\, V5V 2V1\, Canada
END:VEVENT
BEGIN:VEVENT
DTSTART;TZID=America/Vancouver:20250612T140000
DTEND;TZID=America/Vancouver:20250612T190000
DTSTAMP:20260425T060404
CREATED:20250604T005730Z
LAST-MODIFIED:20250604T005836Z
UID:606-1749736800-1749754800@empanadagal.com
SUMMARY:New West farmers market
DESCRIPTION:
URL:https://empanadagal.com/markets/new-west-farmers-market-6/
LOCATION:New West\, 315 Queens Ave\, New Westminster\, BC\, V3L 1K1\, Canada
END:VEVENT
BEGIN:VEVENT
DTSTART;TZID=America/Vancouver:20250608T100000
DTEND;TZID=America/Vancouver:20250608T160000
DTSTAMP:20260425T060404
CREATED:20250604T005439Z
LAST-MODIFIED:20250604T005923Z
UID:600-1749376800-1749398400@empanadagal.com
SUMMARY:Ladner Farmers market
DESCRIPTION:
URL:https://empanadagal.com/markets/ladner-farmers-market/
LOCATION:Ladner\, 5028A 48th Avenue\, Ladner\, BC\, V4K 1W2
END:VEVENT
BEGIN:VEVENT
DTSTART;TZID=America/Vancouver:20250608T100000
DTEND;TZID=America/Vancouver:20250608T150000
DTSTAMP:20260425T060404
CREATED:20250604T005643Z
LAST-MODIFIED:20250604T010219Z
UID:603-1749376800-1749394800@empanadagal.com
SUMMARY:Clayton farmers market
DESCRIPTION:
URL:https://empanadagal.com/markets/clayton-farmers-market/
LOCATION:Clayton\, 7155 187A Street\, Surrey\, BC\, V4N 6L9\, Canada
END:VEVENT
BEGIN:VEVENT
DTSTART;TZID=America/Vancouver:20250607T100000
DTEND;TZID=America/Vancouver:20250607T140000
DTSTAMP:20260425T060404
CREATED:20250604T004826Z
LAST-MODIFIED:20250604T005050Z
UID:594-1749290400-1749304800@empanadagal.com
SUMMARY:Abbotsford Farmers market
DESCRIPTION:
URL:https://empanadagal.com/markets/abby-loutet/
LOCATION:Abby\, 2552 McCallum Road\, Abbostford\, BC\, V2S 2B9\, Canada
END:VEVENT
BEGIN:VEVENT
DTSTART;TZID=America/Vancouver:20250607T100000
DTEND;TZID=America/Vancouver:20250607T130000
DTSTAMP:20260425T060404
CREATED:20250604T005157Z
LAST-MODIFIED:20250604T010101Z
UID:598-1749290400-1749301200@empanadagal.com
SUMMARY:Loutet Farmers market
DESCRIPTION:
URL:https://empanadagal.com/markets/loutet-farmers-market/
LOCATION:North van\, 1400 Rufus Ave\, North vancouver\, BC\, V7L 4J2\, Canada
END:VEVENT
BEGIN:VEVENT
DTSTART;TZID=America/Vancouver:20250531T100000
DTEND;TZID=America/Vancouver:20250531T140000
DTSTAMP:20260425T060404
CREATED:20250429T004606Z
LAST-MODIFIED:20250429T004606Z
UID:588-1748685600-1748700000@empanadagal.com
SUMMARY:Riley Park farmers market
DESCRIPTION:
URL:https://empanadagal.com/markets/riley-park-farmers-market-4/
LOCATION:Riley park Farmers market\, 50 E 30th Ave & Ontario St\, Vancouver\, BC\, V5V 2V1\, Canada
END:VEVENT
BEGIN:VEVENT
DTSTART;TZID=America/Vancouver:20250529T150000
DTEND;TZID=America/Vancouver:20250529T190000
DTSTAMP:20260425T060404
CREATED:20250429T004432Z
LAST-MODIFIED:20250429T004432Z
UID:584-1748530800-1748545200@empanadagal.com
SUMMARY:New West farmers market
DESCRIPTION:
URL:https://empanadagal.com/markets/new-west-farmers-market-5/
LOCATION:New West\, 315 Queens Ave\, New Westminster\, BC\, V3L 1K1\, Canada
END:VEVENT
BEGIN:VEVENT
DTSTART;TZID=America/Vancouver:20250525T100000
DTEND;TZID=America/Vancouver:20250525T140000
DTSTAMP:20260425T060404
CREATED:20250429T004758Z
LAST-MODIFIED:20250429T004758Z
UID:592-1748167200-1748181600@empanadagal.com
SUMMARY:White Rock farmers market
DESCRIPTION:
URL:https://empanadagal.com/markets/white-rock-farmers-market-4/
LOCATION:White rock\, 15154 RUSSELL AVE.\, White rock\, BC\, V4B 0A6\, Canada
END:VEVENT
BEGIN:VEVENT
DTSTART;TZID=America/Vancouver:20250524T100000
DTEND;TZID=America/Vancouver:20250524T140000
DTSTAMP:20260425T060404
CREATED:20250429T004532Z
LAST-MODIFIED:20250429T004532Z
UID:586-1748080800-1748095200@empanadagal.com
SUMMARY:Riley Park farmers market
DESCRIPTION:
URL:https://empanadagal.com/markets/riley-park-farmers-market-3/
LOCATION:Riley park Farmers market\, 50 E 30th Ave & Ontario St\, Vancouver\, BC\, V5V 2V1\, Canada
END:VEVENT
BEGIN:VEVENT
DTSTART;TZID=America/Vancouver:20250524T090000
DTEND;TZID=America/Vancouver:20250524T140000
DTSTAMP:20260425T060404
CREATED:20250429T004714Z
LAST-MODIFIED:20250429T004714Z
UID:590-1748077200-1748095200@empanadagal.com
SUMMARY:Trout Lake farmers market
DESCRIPTION:
URL:https://empanadagal.com/markets/trout-lake-farmers-market-2/
LOCATION:Trout lake\, 3300 Victoria Dr\, Vancouver\, BC\, V5N 4M4\, Canada
END:VEVENT
BEGIN:VEVENT
DTSTART;TZID=America/Vancouver:20250522T150000
DTEND;TZID=America/Vancouver:20250522T190000
DTSTAMP:20260425T060404
CREATED:20250429T004401Z
LAST-MODIFIED:20250429T004401Z
UID:582-1747926000-1747940400@empanadagal.com
SUMMARY:New West farmers market
DESCRIPTION:
URL:https://empanadagal.com/markets/new-west-farmers-market-4/
LOCATION:New West\, 315 Queens Ave\, New Westminster\, BC\, V3L 1K1\, Canada
END:VEVENT
BEGIN:VEVENT
DTSTART;TZID=America/Vancouver:20250518T100000
DTEND;TZID=America/Vancouver:20250518T140000
DTSTAMP:20260425T060404
CREATED:20250429T004253Z
LAST-MODIFIED:20250429T004253Z
UID:580-1747562400-1747576800@empanadagal.com
SUMMARY:Mount Pleasant farmers market
DESCRIPTION:
URL:https://empanadagal.com/markets/mount-pleasant-farmers-market-2/
LOCATION:Mount pleasant\, 2300 Guelph St\, Vancouver\, BC\, V5T 3P1\, Canada
END:VEVENT
BEGIN:VEVENT
DTSTART;TZID=America/Vancouver:20250518T100000
DTEND;TZID=America/Vancouver:20250518T140000
DTSTAMP:20260425T060404
CREATED:20250429T004203Z
LAST-MODIFIED:20250429T004203Z
UID:577-1747562400-1747576800@empanadagal.com
SUMMARY:Kitsilano farmers market
DESCRIPTION:
URL:https://empanadagal.com/markets/kitsilano-farmers-market/
LOCATION:Kits 10-2\, 2690 Larch St\, Vancouver\, BC\, V6K 4K9\, Canada
END:VEVENT
BEGIN:VEVENT
DTSTART;TZID=America/Vancouver:20250517T100000
DTEND;TZID=America/Vancouver:20250517T140000
DTSTAMP:20260425T060404
CREATED:20250429T003729Z
LAST-MODIFIED:20250429T003729Z
UID:573-1747476000-1747490400@empanadagal.com
SUMMARY:Riley Park farmers market
DESCRIPTION:
URL:https://empanadagal.com/markets/riley-park-farmers-market-2/
LOCATION:Riley park Farmers market\, 50 E 30th Ave & Ontario St\, Vancouver\, BC\, V5V 2V1\, Canada
END:VEVENT
BEGIN:VEVENT
DTSTART;TZID=America/Vancouver:20250517T090000
DTEND;TZID=America/Vancouver:20250517T140000
DTSTAMP:20260425T060404
CREATED:20250429T003833Z
LAST-MODIFIED:20250429T003833Z
UID:575-1747472400-1747490400@empanadagal.com
SUMMARY:Trout Lake farmers market
DESCRIPTION:
URL:https://empanadagal.com/markets/trout-lake-farmers-market/
LOCATION:Trout lake\, 3300 Victoria Dr\, Vancouver\, BC\, V5N 4M4\, Canada
END:VEVENT
BEGIN:VEVENT
DTSTART;TZID=America/Vancouver:20250515T150000
DTEND;TZID=America/Vancouver:20250515T190000
DTSTAMP:20260425T060404
CREATED:20250429T003426Z
LAST-MODIFIED:20250429T003426Z
UID:571-1747321200-1747335600@empanadagal.com
SUMMARY:New West farmers market
DESCRIPTION:
URL:https://empanadagal.com/markets/new-west-farmers-market-3/
LOCATION:New West\, 315 Queens Ave\, New Westminster\, BC\, V3L 1K1\, Canada
END:VEVENT
END:VCALENDAR