BEGIN:VCALENDAR
VERSION:2.0
PRODID:-//Empanada Gal - ECPv6.15.16.1//NONSGML v1.0//EN
CALSCALE:GREGORIAN
METHOD:PUBLISH
X-WR-CALNAME:Empanada Gal
X-ORIGINAL-URL:https://empanadagal.com
X-WR-CALDESC:Events for Empanada Gal
REFRESH-INTERVAL;VALUE=DURATION:PT1H
X-Robots-Tag:noindex
X-PUBLISHED-TTL:PT1H
BEGIN:VTIMEZONE
TZID:America/Vancouver
BEGIN:DAYLIGHT
TZOFFSETFROM:-0800
TZOFFSETTO:-0700
TZNAME:PDT
DTSTART:20250309T100000
END:DAYLIGHT
BEGIN:STANDARD
TZOFFSETFROM:-0700
TZOFFSETTO:-0800
TZNAME:PST
DTSTART:20251102T090000
END:STANDARD
BEGIN:DAYLIGHT
TZOFFSETFROM:-0800
TZOFFSETTO:-0700
TZNAME:PDT
DTSTART:20260308T100000
END:DAYLIGHT
BEGIN:STANDARD
TZOFFSETFROM:-0700
TZOFFSETTO:-0800
TZNAME:PST
DTSTART:20261101T090000
END:STANDARD
BEGIN:DAYLIGHT
TZOFFSETFROM:-0800
TZOFFSETTO:-0700
TZNAME:PDT
DTSTART:20270314T100000
END:DAYLIGHT
BEGIN:STANDARD
TZOFFSETFROM:-0700
TZOFFSETTO:-0800
TZNAME:PST
DTSTART:20271107T090000
END:STANDARD
END:VTIMEZONE
BEGIN:VEVENT
DTSTART;TZID=America/Vancouver:20260510T100000
DTEND;TZID=America/Vancouver:20260510T140000
DTSTAMP:20260425T052408
CREATED:20260316T170550Z
LAST-MODIFIED:20260316T170550Z
UID:789-1778407200-1778421600@empanadagal.com
SUMMARY:Mount Pleasant Farmers Market
DESCRIPTION:
URL:https://empanadagal.com/markets/mount-pleasant-farmers-market-3/
LOCATION:Mount pleasant\, 2300 Guelph St\, Vancouver\, BC\, V5T 3P1\, Canada
END:VEVENT
BEGIN:VEVENT
DTSTART;TZID=America/Vancouver:20260510T100000
DTEND;TZID=America/Vancouver:20260510T140000
DTSTAMP:20260425T052408
CREATED:20260316T170641Z
LAST-MODIFIED:20260316T170641Z
UID:791-1778407200-1778421600@empanadagal.com
SUMMARY:White Rock Farmers Market
DESCRIPTION:
URL:https://empanadagal.com/markets/white-rock-farmers-market-8/
LOCATION:White rock\, 15154 RUSSELL AVE.\, White rock\, BC\, V4B 0A6\, Canada
END:VEVENT
BEGIN:VEVENT
DTSTART;TZID=America/Vancouver:20260516T090000
DTEND;TZID=America/Vancouver:20260516T140000
DTSTAMP:20260425T052408
CREATED:20260316T165942Z
LAST-MODIFIED:20260316T165942Z
UID:777-1778922000-1778940000@empanadagal.com
SUMMARY:Trout Lake Farmers Market
DESCRIPTION:
URL:https://empanadagal.com/markets/trout-lake-farmers-market-5/
LOCATION:Trout lake\, 3300 Victoria Dr\, Vancouver\, BC\, V5N 4M4\, Canada
END:VEVENT
BEGIN:VEVENT
DTSTART;TZID=America/Vancouver:20260516T090000
DTEND;TZID=America/Vancouver:20260516T140000
DTSTAMP:20260425T052408
CREATED:20260316T170028Z
LAST-MODIFIED:20260316T170028Z
UID:779-1778922000-1778940000@empanadagal.com
SUMMARY:West End Farmers Market
DESCRIPTION:
URL:https://empanadagal.com/markets/west-end-farmers-market-2/
LOCATION:West End\, 1100 Comox St btw. Bute & Thurlow\, Vancouver\, BC\, V6E 1K5\, Canada
END:VEVENT
BEGIN:VEVENT
DTSTART;TZID=America/Vancouver:20260517T100000
DTEND;TZID=America/Vancouver:20260517T140000
DTSTAMP:20260425T052408
CREATED:20260316T170732Z
LAST-MODIFIED:20260316T170732Z
UID:793-1779012000-1779026400@empanadagal.com
SUMMARY:Kitsilano Farmers Market
DESCRIPTION:
URL:https://empanadagal.com/markets/kitsilano-farmers-market-11/
LOCATION:Kits 10-2\, 2690 Larch St\, Vancouver\, BC\, V6K 4K9\, Canada
END:VEVENT
BEGIN:VEVENT
DTSTART;TZID=America/Vancouver:20260517T100000
DTEND;TZID=America/Vancouver:20260517T140000
DTSTAMP:20260425T052408
CREATED:20260316T170829Z
LAST-MODIFIED:20260316T170829Z
UID:795-1779012000-1779026400@empanadagal.com
SUMMARY:White Rock Farmers Market
DESCRIPTION:
URL:https://empanadagal.com/markets/white-rock-farmers-market-9/
LOCATION:White rock\, 15154 RUSSELL AVE.\, White rock\, BC\, V4B 0A6\, Canada
END:VEVENT
BEGIN:VEVENT
DTSTART;TZID=America/Vancouver:20260521T150000
DTEND;TZID=America/Vancouver:20260521T190000
DTSTAMP:20260425T052408
CREATED:20260316T171136Z
LAST-MODIFIED:20260316T171136Z
UID:797-1779375600-1779390000@empanadagal.com
SUMMARY:False Creek Farmers Market
DESCRIPTION:
URL:https://empanadagal.com/markets/false-creek-farmers-market/
LOCATION:False Creek\, Olympic Village Square Milton Wong Plaza\, Vancouver\, BC\, V5Y 0B8\, Canada
END:VEVENT
BEGIN:VEVENT
DTSTART;TZID=America/Vancouver:20260523T090000
DTEND;TZID=America/Vancouver:20260523T140000
DTSTAMP:20260425T052408
CREATED:20260316T170248Z
LAST-MODIFIED:20260316T170248Z
UID:783-1779526800-1779544800@empanadagal.com
SUMMARY:Trout Lake Farmers Market
DESCRIPTION:
URL:https://empanadagal.com/markets/trout-lake-farmers-market-6/
LOCATION:Trout lake\, 3300 Victoria Dr\, Vancouver\, BC\, V5N 4M4\, Canada
END:VEVENT
BEGIN:VEVENT
DTSTART;TZID=America/Vancouver:20260523T100000
DTEND;TZID=America/Vancouver:20260523T130000
DTSTAMP:20260425T052408
CREATED:20260316T170150Z
LAST-MODIFIED:20260316T170150Z
UID:781-1779530400-1779541200@empanadagal.com
SUMMARY:Loutet Farm Community Market
DESCRIPTION:
URL:https://empanadagal.com/markets/loutet-farm-community-market-2/
LOCATION:North van\, 1400 Rufus Ave\, North vancouver\, BC\, V7L 4J2\, Canada
END:VEVENT
BEGIN:VEVENT
DTSTART;TZID=America/Vancouver:20260524T100000
DTEND;TZID=America/Vancouver:20260524T140000
DTSTAMP:20260425T052408
CREATED:20260316T171400Z
LAST-MODIFIED:20260316T171400Z
UID:800-1779616800-1779631200@empanadagal.com
SUMMARY:Mount Pleasant Farmers Market
DESCRIPTION:
URL:https://empanadagal.com/markets/mount-pleasant-farmers-market-4/
LOCATION:Mount pleasant\, 2300 Guelph St\, Vancouver\, BC\, V5T 3P1\, Canada
END:VEVENT
BEGIN:VEVENT
DTSTART;TZID=America/Vancouver:20260524T100000
DTEND;TZID=America/Vancouver:20260524T140000
DTSTAMP:20260425T052408
CREATED:20260316T171507Z
LAST-MODIFIED:20260316T171507Z
UID:802-1779616800-1779631200@empanadagal.com
SUMMARY:White Rock Farmers Market
DESCRIPTION:
URL:https://empanadagal.com/markets/white-rock-farmers-market-10/
LOCATION:White rock\, 15154 RUSSELL AVE.\, White rock\, BC\, V4B 0A6\, Canada
END:VEVENT
END:VCALENDAR